Workbook

Sheet 2017年  
A1: 生产过程产生的固体废物利用及处置情况（按日填写）股份
A2: 日期 | B2: 固 体 废 物 名 称 | C2: 数量（吨） | D2: 利 用 情 况 | F2: 处 置 情 况 | H2: 记录人签字
D3: 利用数量 | E3: 去 向 | F3: 处置数量 | G3: 去 向
D4: （吨） | F4: （吨）
A5: 42917
A6: 42918
A7: 42919
A8: 42920
A9: 42921
A10: 42922
A11: 42923
A12: 42924
A13: 42925
A14: 42926
A15: 42927
A16: 42928
... A28: 42940
A29: 42941 | B29: 绞绳废铁丝 | C29: 13.02 | F29: =C29 -> 13.02 | G29: 陶庄金属市场 | H29: 诸美娟
A30: 42942
A31: 42943
A32: 42944
A33: 42945
A34: 42946
A35: 42947 | B35: 绞绳废铁丝 | C35: 13.3 | F35: =C35 -> 13.3 | G35: 陶庄金属市场 | H35: 诸美娟
A36: 合计 | C36: =SUM(C5:C35) -> 26.32 | F36: =SUM(F5:F35) -> 26.32
A37: 备注：2017年7月24日起开始统计
A40: 42948
A41: 42949
A42: 42950
A43: 42951
A44: 42952
A45: 42953
A46: 42954 | B46: 绞绳废铁丝 | C46: 12.74 | F46: =C46 -> 12.74 | G46: 陶庄金属市场 | H46: 诸美娟
A47: 42955
A48: 42956
A49: 42957
A50: 42958
A51: 42959 | B51: 绞绳废铁丝 | C51: 12.68 | F51: =C51 -> 12.68 | G51: 陶庄金属市场 | H51: 诸美娟
A52: 42960
A53: 42961
A54: 42962
A55: 42963
A56: 42964
A57: 42965
A58: 42966 | B58: 绞绳废铁丝 | C58: 13.18 | F58: =C58 -> 13.18 | G58: 陶庄金属市场 | H58: 诸美娟
A59: 42967
A60: 42968
A61: 42969
A62: 42970
A63: 42971
A64: 42972 | B64: 绞绳废铁丝 | C64: 13.64 | F64: =C64 -> 13.64 | G64: 陶庄金属市场 | H64: 诸美娟
A65: 42973
A66: 42974
A67: 42975
A68: 42976
A69: 42977
A70: 42978 | B70: 绞绳废铁丝 | C70: 12.38 | F70: =C70 -> 12.38 | G70: 陶庄金属市场 | H70: 诸美娟
A71: 合计 | C71: =SUM(C40:C70) -> 64.62 | F71: =SUM(F40:F70) -> 64.62
A73: 42979
A74: 42980
A75: 42981
A76: 42982 | B76: 绞绳废铁丝 | C76: 10.18 | F76: =C76 -> 10.18 | G76: 陶庄金属市场 | H76: 诸美娟
A77: 42983
A78: 42984
A79: 42985
A80: 42986 | B80: 绞绳废铁丝 | C80: 10.68 | F80: =C80 -> 10.68 | G80: 陶庄金属市场 | H80: 诸美娟
A81: 42987
A82: 42988
A83: 42989
A84: 42990
A85: 42991 | B85: 绞绳废铁丝 | C85: 11.52 | F85: =C85 -> 11.52 | G85: 陶庄金属市场 | H85: 诸美娟
A86: 42992
A87: 42993
A88: 42994
A89: 42995
A90: 42996
A91: 42997
A92: 42998 | B92: 绞绳废铁丝 | C92: 10.96 | F92: =C92 -> 10.96 | G92: 陶庄金属市场 | H92: 诸美娟
A93: 42999
A94: 43000
A95: 43001
A96: 43002
A97: 43003 | B97: 绞绳废铁丝 | C97: 10.82 | F97: =C97 -> 10.82 | G97: 陶庄金属市场 | H97: 诸美娟
A98: 43004
A99: 43005
A100: 43006
A101: 43007 | B101: 绞绳废铁丝 | C101: 10.27 | F101: =C101 -> 10.27 | G101: 陶庄金属市场 | H101: 诸美娟
A102: 43008
A104: 合计 | C104: =SUM(C73:C103) -> 64.43 | F104: =SUM(F73:F103) -> 64.43
A105: 备注：2017年7月24日起开始统计
A107: 43009
A108: 43010
A109: 43011
A110: 43012
A111: 43013 | B111: 绞绳废铁丝 | C111: 12.18 | F111: =C111 -> 12.18 | G111: 陶庄金属市场 | H111: 诸美娟
A112: 43014
A113: 43015
A114: 43016
A115: 43017
A116: 43018 | B116: 绞绳废铁丝 | C116: 11.64 | F116: =C116 -> 11.64 | G116: 陶庄金属市场 | H116: 诸美娟
...

Sheet 2017年月度统计  
A1: 生产过程产生的固体废物利用及处置情况（按日填写）股份 ( 2018)
A2: 日期 | B2: 固 体 废 物 名 称 | C2: 数量（吨） | D2: 利 用 情 况 | F2: 处 置 情 况 | H2: 记录人签字
D3: 利用数量 | E3: 去 向 | F3: 处置数量 | G3: 去 向
D4: （吨） | F4: （吨）
A5: 1月份 | F5: ='2018年 '!F10 -> 0
A6: 2月份
A7: 3月份
A8: 4月份
A9: 5月份
A10: 6月份
A11: 7月份 | B11: 绞绳废铁丝 | C11: 26.32 | F11: =C11 -> 26.32 | G11: 陶庄金属市场 | H11: 诸美娟
A12: 8月份 | B12: 绞绳废铁丝 | C12: 64.62 | F12: =C12 -> 64.62 | G12: 陶庄金属市场 | H12: 诸美娟
A13: 9月份 | B13: 绞绳废铁丝 | C13: 64.43 | F13: =C13 -> 64.43 | G13: 陶庄金属市场 | H13: 诸美娟
A14: 10月份 | B14: 绞绳废铁丝 | C14: 76.32 | F14: =C14 -> 76.32 | G14: 陶庄金属市场 | H14: 诸美娟
A15: 11月份 | B15: 绞绳废铁丝 | C15: 76.15 | F15: =C15 -> 76.15 | G15: 陶庄金属市场 | H15: 诸美娟
A16: 12月份 | B16: 绞绳废铁丝 | C16: 87 | F16: =C16 -> 87 | G16: 陶庄金属市场 | H16: 诸美娟
A17: 合计 | C17: =SUM(C5:C16) -> 394.84 | F17: =SUM(F5:F16) -> 394.84

Sheet 2018年 
A1: 生产过程产生的固体废物利用及处置情况（按日填写）股份
A2: 日期 | B2: 固 体 废 物 名 称 | C2: 数量（吨） | D2: 利 用 情 况 | F2: 处 置 情 况 | H2: 记录人签字
D3: 利用数量 | E3: 去 向 | F3: 处置数量 | G3: 去 向
D4: （吨） | F4: （吨）
A5: 43101
A6: 43102
A7: 43103
A8: 43104
A9: 43105
A10: 43106
A11: 43107
A12: 43108
A13: 43109 | B13: 绞绳废铁丝 | C13: 13.18 | F13: =C13 -> 13.18 | G13: 陶庄金属市场 | H13: 诸美娟
A14: 43110
A15: 43111
A16: 43112
A17: 43113
A18: 43114
A19: 43115 | B19: 绞绳废铁丝 | C19: 14.42 | F19: =C19 -> 14.42 | G19: 陶庄金属市场 | H19: 诸美娟
A20: 43116
A21: 43117
A22: 43118
A23: 43119
A24: 43120
A25: 43121 | B25: 绞绳废铁丝 | C25: 14.74 | F25: =C25 -> 14.74 | G25: 陶庄金属市场 | H25: 诸美娟
A26: 43122
A27: 43123
A28: 43124
A29: 43125
A30: 43126
A31: 43127
A32: 43128 | B32: 绞绳废铁丝 | C32: 13.48 | F32: =C32 -> 13.48 | G32: 陶庄金属市场 | H32: 诸美娟
A33: 43129
A34: 43130
A35: 43131
A36: 合计 | C36: =SUM(C5:C35) -> 55.82 | F36: =SUM(F5:F35) -> 55.82
A37: 备注：2017年7月24日起开始统计
A40: 43132
A41: 43133 | B41: 绞绳废铁丝 | C41: 14.32 | F41: =C41 -> 14.32 | G41: 陶庄金属市场 | H41: 诸美娟
A42: 43134
A43: 43135
A44: 43136
A45: 43137
A46: 43138 | B46: 绞绳废铁丝 | C46: 11.96 | F46: =C46 -> 11.96 | G46: 陶庄金属市场 | H46: 诸美娟
A47: 43139
A48: 43140
A49: 43141
A50: 43142
A51: 43143
A52: 43144 | B52: 绞绳废铁丝 | C52: 13.4 | F52: =C52 -> 13.4 | G52: 陶庄金属市场 | H52: 诸美娟
A53: 43145
A54: 43146
A55: 43147
A56: 43148
A57: 43149
A58: 43150
A59: 43151
A60: 43152
A61: 43153 | B61: 绞绳废铁丝 | C61: 13.14 | F61: =C61 -> 13.14 | G61: 陶庄金属市场 | H61: 诸美娟
A62: 43154
A63: 43155
A64: 43156
A65: 43157
A66: 43158
A67: 43159 | B67: 绞绳废铁丝 | C67: 12.91 | F67: =C67 -> 12.91 | G67: 陶庄金属市场 | H67: 诸美娟
A71: 合计 | C71: =SUM(C40:C70) -> 65.73 | F71: =SUM(F40:F70) -> 65.73
A73: 43160
A74: 43161
A75: 43162 | B75: 绞绳废铁丝 | C75: 12.94 | F75: =C75 -> 12.94 | G75: 陶庄金属市场 | H75: 诸美娟
A76: 43163
A77: 43164
A78: 43165
A79: 43166 | B79: 绞绳废铁丝 | C79: 13.34 | F79: =C79 -> 13.34 | G79: 陶庄金属市场 | H79: 诸美娟
A80: 43167
A81: 43168
A82: 43169
A83: 43170
A84: 43171
A85: 43172
A86: 43173
A87: 43174 | B87: 绞绳废铁丝 | C87: 10.9 | F87: =C87 -> 10.9 | G87: 陶庄金属市场 | H87: 诸美娟
A88: 43175
A89: 43176
A90: 43177
A91: 43178
A92: 43179
A93: 43180
A94: 43181 | B94: 绞绳废铁丝 | C94: 11.86 | F94: =C94 -> 11.86 | G94: 陶庄金属市场 | H94: 诸美娟
A95: 43182
A96: 43183
A97: 43184
A98: 43185 | C98: 12 | F98: =C98 -> 12 | G98: 陶庄金属市场 | H98: 诸美娟
A99: 43186
A100: 43187 | B100: 绞绳废铁丝 | C100: 11.42 | F100: =C100 -> 11.42 | G100: 陶庄金属市场 | H100: 诸美娟
A101: 43188
A102: 43189
A103: 43190
A104: 合计 | C104: =SUM(C73:C103) -> 72.46 | F104: =SUM(F73:F103) -> 72.46
A106: 43191
A107: 43192 | B107: 绞绳废铁丝 | C107: 11.26 | F107: =C107 -> 11.26 | G107: 陶庄金属市场 | H107: 诸美娟
...

Sheet 2018年月度统计 
A1: 生产过程产生的固体废物利用及处置情况（按日填写）股份 ( 2018)
A2: 日期 | B2: 固 体 废 物 名 称 | C2: 数量（吨） | D2: 利 用 情 况 | F2: 处 置 情 况 | H2: 记录人签字
D3: 利用数量 | E3: 去 向 | F3: 处置数量 | G3: 去 向
D4: （吨） | F4: （吨）
A5: 1月份 | B5: 绞绳废铁丝 | C5: 55.82 | F5: 55.82 | G5: 陶庄金属市场 | H5: 诸美娟
A6: 2月份 | B6: 绞绳废铁丝 | C6: ='2018年 '!C71 -> 65.73 | F6: ='2018年 '!F71 -> 65.73 | G6: 陶庄金属市场 | H6: 诸美娟
A7: 3月份 | B7: 绞绳废铁丝 | C7: ='2018年 '!C104 -> 72.46 | F7: ='2018年 '!F104 -> 72.46 | G7: 陶庄金属市场 | H7: 诸美娟
A8: 4月份 | B8: 绞绳废铁丝 | C8: ='2018年 '!C137 -> 68.78 | F8: ='2018年 '!F137 -> 68.78 | G8: 陶庄金属市场 | H8: 诸美娟
A9: 5月份 | B9: 绞绳废铁丝 | C9: ='2018年 '!C170 -> 87.49 | F9: ='2018年 '!F170 -> 87.49 | G9: 陶庄金属市场 | H9: 诸美娟
A10: 6月份 | B10: 绞绳废铁丝 | C10: ='2018年 '!C203 -> 73.04 | F10: =C10 -> 73.04 | G10: 陶庄金属市场 | H10: 诸美娟
A11: 7月份 | B11: 绞绳废铁丝 | C11: ='2018年 '!C236 -> 70.68 | F11: ='2018年 '!F236 -> 70.68 | G11: 陶庄金属市场 | H11: 诸美娟
A12: 8月份 | B12: 绞绳废铁丝 | C12: ='2018年 '!C269 -> 66 | F12: =C12 -> 66 | G12: 陶庄金属市场 | H12: 诸美娟
A13: 9月份 | B13: 绞绳废铁丝 | C13: ='2018年 '!C302 -> 61.93 | F13: =C13 -> 61.93 | G13: 陶庄金属市场 | H13: 诸美娟
A14: 10月份 | B14: 绞绳废铁丝 | C14: ='2018年 '!C334 -> 66.38 | F14: =C14 -> 66.38 | G14: 陶庄金属市场 | H14: 诸美娟
A15: 11月份 | B15: 绞绳废铁丝 | C15: ='2018年 '!C367 -> 69.72 | F15: ='2018年 '!F367 -> 69.72 | G15: 陶庄金属市场 | H15: 诸美娟
A16: 12月份 | B16: 绞绳废铁丝 | C16: ='2018年 '!C399 -> 68.62 | F16: ='2018年 '!F399 -> 68.62 | G16: 陶庄金属市场 | H16: 诸美娟
A17: 合计 | C17: =SUM(C5:C16) -> 826.65 | F17: =SUM(F5:F16) -> 826.65

Sheet 2019年 
A1: 生产过程产生的固体废物利用及处置情况（按日填写）股份
A2: 日期 | B2: 固 体 废 物 名 称 | C2: 数量（吨） | D2: 利 用 情 况 | F2: 处 置 情 况 | H2: 记录人签字
D3: 利用数量 | E3: 去 向 | F3: 处置数量 | G3: 去 向
D4: （吨） | F4: （吨）
A5: 43466
A6: 43467
A7: 43468
A8: 43469
A9: 43470 | B9: 绞绳废铁丝 | C9: 12.2 | F9: =C9 -> 12.2 | G9: 陶庄金属市场 | H9: 诸美娟
A10: 43471
A11: 43472
A12: 43473
A13: 43474
A14: 43475
A15: 43476
A16: 43477 | B16: 绞绳废铁丝 | C16: 12.28 | F16: =C16 -> 12.28 | G16: 陶庄金属市场 | H16: 诸美娟
A17: 43478
A18: 43479
A19: 43480
A20: 43481
A21: 43482
A22: 43483
A23: 43484 | B23: 绞绳废铁丝 | C23: 13.58 | F23: =C23 -> 13.58 | G23: 陶庄金属市场 | H23: 诸美娟
A24: 43485
A25: 43486
A26: 43487
A27: 43488
A28: 43489
A29: 43490 | B29: 绞绳废铁丝 | C29: 12.68 | F29: =C29 -> 12.68 | G29: 陶庄金属市场 | H29: 诸美娟
A30: 43491
A31: 43492
A32: 43493
A33: 43494
A34: 43495 | B34: 绞绳废铁丝 | C34: 12.76 | F34: =C34 -> 12.76 | G34: 陶庄金属市场 | H34: 诸美娟
A35: 43496
A36: 合计 | C36: =SUM(C5:C35) -> 63.5 | F36: =SUM(F5:F35) -> 63.5
A37: 备注：2017年7月24日起开始统计
A40: 43497
A41: 43498
A42: 43499 | B42: 绞绳废铁丝 | C42: 14.34 | F42: =C42 -> 14.34 | G42: 陶庄金属市场 | H42: 诸美娟
A43: 43500
A44: 43501
A45: 43502
A46: 43503
A47: 43504
A48: 43505
A49: 43506 | B49: 绞绳废铁丝 | C49: 12.98 | F49: =C49 -> 12.98 | G49: 陶庄金属市场 | H49: 诸美娟
A50: 43507
A51: 43508
A52: 43509
A53: 43510
A54: 43511
A55: 43512
A56: 43513 | B56: 绞绳废铁丝 | C56: 12.6 | F56: =C56 -> 12.6 | G56: 陶庄金属市场 | H56: 诸美娟
A57: 43514
A58: 43515
A59: 43516
A60: 43517 | B60: 绞绳废铁丝 | C60: 13.14 | F60: =C60 -> 13.14 | G60: 陶庄金属市场 | H60: 诸美娟
A61: 43518
A62: 43519
A63: 43520
A64: 43521
A65: 43522 | B65: 绞绳废铁丝 | C65: 12 | F65: =C65 -> 12 | G65: 陶庄金属市场 | H65: 诸美娟
A66: 43523
A67: 43524
A71: 合计 | C71: =SUM(C40:C70) -> 65.06 | F71: =SUM(F40:F70) -> 65.06
A73: 43525 | B73: 绞绳废铁丝 | C73: 12.28 | F73: =C73 -> 12.28 | G73: 陶庄金属市场 | H73: 诸美娟
A74: 43526
A75: 43527
A76: 43528
A77: 43529
A78: 43530 | B78: 绞绳废铁丝 | C78: 11.92 | F78: =C78 -> 11.92 | G78: 陶庄金属市场 | H78: 诸美娟
A79: 43531
A80: 43532
A81: 43533
A82: 43534
A83: 43535
A84: 43536
A85: 43537 | B85: 绞绳废铁丝 | C85: 12.9 | F85: =C85 -> 12.9 | G85: 陶庄金属市场 | H85: 诸美娟
A86: 43538
A87: 43539
A88: 43540
A89: 43541
A90: 43542 | B90: 绞绳废铁丝 | C90: 12.56 | F90: =C90 -> 12.56 | G90: 陶庄金属市场 | H90: 诸美娟
A91: 43543
A92: 43544
A93: 43545 | B93: 绞绳废铁丝 | C93: 12.02 | F93: =C93 -> 12.02 | G93: 陶庄金属市场 | H93: 诸美娟
A94: 43546
A95: 43547
A96: 43548
A97: 43549
A98: 43550
A99: 43551
A100: 43552 | B100: 绞绳废铁丝 | C100: 12.5 | F100: =C100 -> 12.5 | G100: 陶庄金属市场 | H100: 诸美娟
A101: 43553
A102: 43554
A103: 43555
A104: 合计 | C104: =SUM(C73:C103) -> 74.18 | F104: =SUM(F73:F103) -> 74.18
A106: 43556
A107: 43557
...

Sheet 2019年月度统计 
A1: 生产过程产生的固体废物利用及处置情况（按日填写）股份 ( 2019)
A2: 日期 | B2: 固 体 废 物 名 称 | C2: 数量（吨） | D2: 利 用 情 况 | F2: 处 置 情 况 | H2: 记录人签字
D3: 利用数量 | E3: 去 向 | F3: 处置数量 | G3: 去 向
D4: （吨） | F4: （吨）
A5: 1月份 | B5: 绞绳废铁丝 | C5: ='2019年 '!C36 -> 63.5 | F5: =C5 -> 63.5 | G5: 陶庄金属市场 | H5: 诸美娟
A6: 2月份 | B6: 绞绳废铁丝 | C6: ='2019年 '!C71 -> 65.06 | F6: =C6 -> 65.06 | G6: 陶庄金属市场 | H6: 诸美娟
A7: 3月份 | B7: 绞绳废铁丝 | C7: ='2019年 '!C104 -> 74.18 | F7: =C7 -> 74.18 | G7: 陶庄金属市场 | H7: 诸美娟
A8: 4月份 | B8: 绞绳废铁丝 | C8: ='2019年 '!C137 -> 52.06 | F8: =C8 -> 52.06 | G8: 陶庄金属市场 | H8: 诸美娟
A9: 5月份 | B9: 绞绳废铁丝 | C9: ='2019年 '!C170 -> 51.1 | F9: =C9 -> 51.1 | G9: 陶庄金属市场 | H9: 诸美娟
A10: 6月份 | B10: 绞绳废铁丝 | C10: ='2019年 '!C203 -> 48.8 | F10: =C10 -> 48.8 | G10: 陶庄金属市场 | H10: 诸美娟
A11: 7月份 | B11: 绞绳废铁丝 | C11: ='2019年 '!C236 -> 48.88 | F11: =C11 -> 48.88 | G11: 陶庄金属市场 | H11: 诸美娟
A12: 8月份 | B12: 绞绳废铁丝 | C12: ='2019年 '!C269 -> 46.75 | F12: =C12 -> 46.75 | G12: 陶庄金属市场 | H12: 诸美娟
A13: 9月份 | B13: 绞绳废铁丝 | C13: ='2019年 '!C302 -> 46.08 | F13: =C13 -> 46.08 | G13: 陶庄金属市场 | H13: 诸美娟
A14: 10月份 | B14: 绞绳废铁丝 | C14: ='2019年 '!C334 -> 50.06 | F14: =C14 -> 50.06 | G14: 陶庄金属市场 | H14: 诸美娟
A15: 11月份 | B15: 绞绳废铁丝 | C15: ='2019年 '!C367 -> 51.38 | F15: =C15 -> 51.38 | G15: 陶庄金属市场 | H15: 诸美娟
A16: 12月份 | B16: 绞绳废铁丝 | C16: ='2019年 '!C399 -> 35.46 | F16: =C16 -> 35.46 | G16: 陶庄金属市场 | H16: 诸美娟
A17: 合计 | C17: =SUM(C5:C16) -> 633.31 | F17: =SUM(F5:F16) -> 633.31

Sheet 2020年 
A1: 生产过程产生的固体废物利用及处置情况（按日填写）股份
A2: 日期 | B2: 固 体 废 物 名 称 | C2: 数量（吨） | D2: 利 用 情 况 | F2: 处 置 情 况 | H2: 记录人签字
D3: 利用数量 | E3: 去 向 | F3: 处置数量 | G3: 去 向
D4: （吨） | F4: （吨）
A5: 43831
A6: 43832
A7: 43833
A8: 43834
A9: 43835 | B9: 绞绳废铁丝 | C9: 11.92 | F9: =C9 -> 11.92 | G9: 陶庄金属市场 | H9: 诸美娟
A10: 43836
A11: 43837
A12: 43838
A13: 43839
A14: 43840
A15: 43841
A16: 43842
A17: 43843 | B17: 绞绳废铁丝 | C17: 10.8 | F17: =C17 -> 10.8 | G17: 陶庄金属市场 | H17: 诸美娟
A18: 43844
A19: 43845
A20: 43846
A21: 43847
A22: 43848
A23: 43849
A24: 43850 | B24: 绞绳废铁丝 | C24: 11.2 | F24: =C24 -> 11.2 | G24: 陶庄金属市场 | H24: 诸美娟
A25: 43851
A26: 43852
A27: 43853
A28: 43854
A29: 43855
A30: 43856
A31: 43857
A32: 43858
A33: 43859
A34: 43860
A35: 43861
A36: 合计 | C36: =SUM(C5:C35) -> 33.92 | F36: =SUM(F5:F35) -> 33.92
A37: 备注：2017年7月24日起开始统计
A40: 43862
A41: 43863
A42: 43864
A43: 43865
A44: 43866
A45: 43867
A46: 43868
A47: 43869
A48: 43870
A49: 43871
A50: 43872
A51: 43873
... A58: 43880
A59: 43881 | B59: 绞绳废铁丝 | C59: 10.9 | F59: =C59 -> 10.9 | G59: 陶庄金属市场 | H59: 诸美娟
A60: 43882
A61: 43883
A62: 43884
A63: 43885
A64: 43886
A65: 43887
A66: 43888
A67: 43889
A68: 43890
A71: 合计 | C71: =SUM(C40:C70) -> 10.9 | F71: =SUM(F40:F70) -> 10.9
A73: 43891
A74: 43892
A75: 43893
A76: 43894
A77: 43895
A78: 43896
A79: 43897 | B79: 绞绳废铁丝 | C79: 12.55 | F79: =C79 -> 12.55 | G79: 陶庄金属市场 | H79: 诸美娟
A80: 43898
A81: 43899
A82: 43900
A83: 43901
A84: 43902
A85: 43903
A86: 43904
A87: 43905
A88: 43906
A89: 43907
A90: 43908
A91: 43909
A92: 43910 | B92: 绞绳废铁丝 | C92: 12.48 | F92: =C92 -> 12.48 | G92: 陶庄金属市场 | H92: 诸美娟
A93: 43911
A94: 43912
A95: 43913
A96: 43914
A97: 43915
A98: 43916
A99: 43917
A100: 43918 | B100: 绞绳废铁丝 | C100: 12.76 | F100: =C100 -> 12.76 | G100: 陶庄金属市场 | H100: 诸美娟
A101: 43919
A102: 43920
A103: 43921
A104: 合计 | C104: =SUM(C73:C103) -> 37.79 | F104: =SUM(F73:F103) -> 37.79
A106: 43922
A107: 43923
A108: 43924
A109: 43925
A110: 43926
A111: 43927
A112: 43928 | B112: 绞绳废铁丝 | C112: 10.38 | F112: =C112 -> 10.38 | G112: 陶庄金属市场 | H112: 诸美娟
...

Sheet 2020年月度统计 
A1: 生产过程产生的固体废物利用及处置情况（按日填写）股份 ( 2020)
A2: 日期 | B2: 固 体 废 物 名 称 | C2: 数量（吨） | D2: 利 用 情 况 | F2: 处 置 情 况 | H2: 记录人签字
D3: 利用数量 | E3: 去 向 | F3: 处置数量 | G3: 去 向
D4: （吨） | F4: （吨）
A5: 1月份 | B5: 绞绳废铁丝 | C5: ='2020年 '!C36 -> 33.92 | F5: ='2020年 '!F36 -> 33.92 | G5: 陶庄金属市场 | H5: 诸美娟
A6: 2月份 | B6: 绞绳废铁丝 | C6: ='2020年 '!C71 -> 10.9 | F6: ='2020年 '!F71 -> 10.9 | G6: 陶庄金属市场 | H6: 诸美娟
A7: 3月份 | B7: 绞绳废铁丝 | C7: ='2020年 '!C104 -> 37.79 | F7: ='2020年 '!F104 -> 37.79 | G7: 陶庄金属市场 | H7: 诸美娟
A8: 4月份 | B8: 绞绳废铁丝 | C8: ='2020年 '!C137 -> 36.62 | F8: ='2020年 '!F137 -> 36.62 | G8: 陶庄金属市场 | H8: 诸美娟
A9: 5月份 | B9: 绞绳废铁丝 | C9: ='2020年 '!C170 -> 34.47 | F9: =C9 -> 34.47 | G9: 陶庄金属市场 | H9: 诸美娟
A10: 6月份 | B10: 绞绳废铁丝 | C10: ='2020年 '!C203 -> 37.04 | F10: =C10 -> 37.04 | G10: 陶庄金属市场 | H10: 诸美娟
A11: 7月份 | B11: 绞绳废铁丝 | C11: ='2020年 '!C236 -> 37.64 | F11: =C11 -> 37.64 | G11: 陶庄金属市场 | H11: 诸美娟
A12: 8月份 | B12: 绞绳废铁丝 | C12: ='2020年 '!C269 -> 37.92 | F12: ='2020年 '!F269 -> 37.92 | G12: 陶庄金属市场 | H12: 诸美娟
A13: 9月份 | B13: 绞绳废铁丝 | C13: ='2020年 '!C302 -> 34.98 | F13: ='2020年 '!F302 -> 34.98 | G13: 陶庄金属市场 | H13: 诸美娟
A14: 10月份 | B14: 绞绳废铁丝 | C14: ='2020年 '!C334 -> 38 | F14: ='2020年 '!F334 -> 38 | G14: 陶庄金属市场 | H14: 诸美娟
A15: 11月份 | B15: 绞绳废铁丝 | C15: ='2020年 '!C367 -> 23.52 | F15: =C15 -> 23.52 | G15: 陶庄金属市场 | H15: 诸美娟
A16: 12月份 | B16: 绞绳废铁丝 | C16: ='2020年 '!C399 -> 37.92 | F16: ='2020年 '!F399 -> 37.92 | G16: 陶庄金属市场 | H16: 诸美娟
A17: 合计 | C17: =SUM(C5:C16) -> 400.72 | F17: =SUM(F5:F16) -> 400.72

Sheet Sheet3
A1: 生产过程产生的固体废物利用及处置情况（按日填写）股份
A2: 日期 | B2: 固 体 废 物 名 称 | C2: 数量（吨） | D2: 利 用 情 况 | F2: 处 置 情 况 | H2: 记录人签字 | I2: 车数
D3: 利用数量 | E3: 去 向 | F3: 处置数量 | G3: 去 向
D4: （吨） | F4: （吨）
A5: 43132 | B5: 废塑料 | G5: 电厂焚烧
A6: 43133 | B6: 废塑料 | G6: 电厂焚烧
A7: 43134 | B7: 废塑料 | G7: 电厂焚烧
A8: 43135 | B8: 废塑料 | G8: 电厂焚烧
A9: 43136 | B9: 废塑料 | G9: 电厂焚烧
A10: 43137 | B10: 废塑料 | G10: 电厂焚烧
A11: 43138 | B11: 废塑料 | G11: 电厂焚烧
A12: 43139 | B12: 废塑料 | G12: 电厂焚烧
A13: 43140 | B13: 废塑料 | G13: 电厂焚烧
A14: 43141 | B14: 废塑料 | G14: 电厂焚烧
A15: 43142 | B15: 废塑料 | G15: 电厂焚烧
A16: 43143 | B16: 废塑料 | G16: 电厂焚烧
... A35: 43162 | B35: 废塑料 | G35: 电厂焚烧
A36: 合计
A37: 备注：2017年7月24日起开始整改分类填报
