Workbook

Sheet 2017年  
A1: 生产过程产生的固体废物利用及处置情况（按日填写）股份
A2: 日期 | B2: 固 体 废 物 名 称 | C2: 数量（吨） | D2: 利 用 情 况 | F2: 处 置 情 况 | H2: 记录人签字
D3: 利用数量 | E3: 去 向 | F3: 处置数量 | G3: 去 向
D4: （吨） | F4: （吨）
A5: 42917
A6: 42918
A7: 42919
A8: 42920
A9: 42921
A10: 42922
A11: 42923
A12: 42924
A13: 42925
A14: 42926
A15: 42927
A16: 42928
... A28: 42940
A29: 42941 | B29: 绞绳废铁丝 | C29: 13.02 | F29: =C29 -> 13.02 | G29: 陶庄金属市场 | H29: 诸美娟
A30: 42942
A31: 42943
A32: 42944
A33: 42945
A34: 42946
A35: 42947 | B35: 绞绳废铁丝 | C35: 13.3 | F35: =C35 -> 13.3 | G35: 陶庄金属市场 | H35: 诸美娟
A36: 合计 | C36: =SUM(C5:C35) -> 26.32 | F36: =SUM(F5:F35) -> 26.32
A37: 备注：2017年7月24日起开始统计
A40: 42948
A41: 42949
A42: 42950
A43: 42951
A44: 42952
A45: 42953
A46: 42954 | B46: 绞绳废铁丝 | C46: 12.74 | F46: =C46 -> 12.74 | G46: 陶庄金属市场 | H46: 诸美娟
A47: 42955
A48: 42956
A49: 42957
A50: 42958
A51: 42959 | B51: 绞绳废铁丝 | C51: 12.68 | F51: =C51 -> 12.68 | G51: 陶庄金属市场 | H51: 诸美娟
A52: 42960
A53: 42961
...

Sheet 2017年月度统计  
A1: 生产过程产生的固体废物利用及处置情况（按日填写）股份 ( 2018)
A2: 日期 | B2: 固 体 废 物 名 称 | C2: 数量（吨） | D2: 利 用 情 况 | F2: 处 置 情 况 | H2: 记录人签字
D3: 利用数量 | E3: 去 向 | F3: 处置数量 | G3: 去 向
D4: （吨） | F4: （吨）
A5: 1月份 | F5: ='2018年 '!F10 -> 0
A6: 2月份
A7: 3月份
A8: 4月份
A9: 5月份
A10: 6月份
A11: 7月份 | B11: 绞绳废铁丝 | C11: 26.32 | F11: =C11 -> 26.32 | G11: 陶庄金属市场 | H11: 诸美娟
A12: 8月份 | B12: 绞绳废铁丝 | C12: 64.62 | F12: =C12 -> 64.62 | G12: 陶庄金属市场 | H12: 诸美娟
A13: 9月份 | B13: 绞绳废铁丝 | C13: 64.43 | F13: =C13 -> 64.43 | G13: 陶庄金属市场 | H13: 诸美娟
A14: 10月份 | B14: 绞绳废铁丝 | C14: 76.32 | F14: =C14 -> 76.32 | G14: 陶庄金属市场 | H14: 诸美娟
A15: 11月份 | B15: 绞绳废铁丝 | C15: 76.15 | F15: =C15 -> 76.15 | G15: 陶庄金属市场 | H15: 诸美娟
A16: 12月份 | B16: 绞绳废铁丝 | C16: 87 | F16: =C16 -> 87 | G16: 陶庄金属市场 | H16: 诸美娟
A17: 合计 | C17: =SUM(C5:C16) -> 394.84 | F17: =SUM(F5:F16) -> 394.84

Sheet 2018年 
A1: 生产过程产生的固体废物利用及处置情况（按日填写）股份
A2: 日期 | B2: 固 体 废 物 名 称 | C2: 数量（吨） | D2: 利 用 情 况 | F2: 处 置 情 况 | H2: 记录人签字
D3: 利用数量 | E3: 去 向 | F3: 处置数量 | G3: 去 向
D4: （吨） | F4: （吨）
A5: 43101
A6: 43102
A7: 43103
A8: 43104
A9: 43105
A10: 43106
A11: 43107
A12: 43108
A13: 43109 | B13: 绞绳废铁丝 | C13: 13.18 | F13: =C13 -> 13.18 | G13: 陶庄金属市场 | H13: 诸美娟
A14: 43110
A15: 43111
A16: 43112
A17: 43113
A18: 43114
A19: 43115 | B19: 绞绳废铁丝 | C19: 14.42 | F19: =C19 -> 14.42 | G19: 陶庄金属市场 | H19: 诸美娟
A20: 43116
A21: 43117
A22: 43118
A23: 43119
A24: 43120
A25: 43121 | B25: 绞绳废铁丝 | C25: 14.74 | F25: =C25 -> 14.74 | G25: 陶庄金属市场 | H25: 诸美娟
A26: 43122
A27: 43123
A28: 43124
A29: 43125
A30: 43126
A31: 43127
A32: 43128 | B32: 绞绳废铁丝 | C32: 13.48 | F32: =C32 -> 13.48 | G32: 陶庄金属市场 | H32: 诸美娟
A33: 43129
A34: 43130
A35: 43131
A36: 合计 | C36: =SUM(C5:C35) -> 55.82 | F36: =SUM(F5:F35) -> 55.82
A37: 备注：2017年7月24日起开始统计
A40: 43132
A41: 43133 | B41: 绞绳废铁丝 | C41: 14.32 | F41: =C41 -> 14.32 | G41: 陶庄金属市场 | H41: 诸美娟
A42: 43134
...

Sheet 2018年月度统计 
A1: 生产过程产生的固体废物利用及处置情况（按日填写）股份 ( 2018)
A2: 日期 | B2: 固 体 废 物 名 称 | C2: 数量（吨） | D2: 利 用 情 况 | F2: 处 置 情 况 | H2: 记录人签字
D3: 利用数量 | E3: 去 向 | F3: 处置数量 | G3: 去 向
D4: （吨） | F4: （吨）
A5: 1月份 | B5: 绞绳废铁丝 | C5: 55.82 | F5: 55.82 | G5: 陶庄金属市场 | H5: 诸美娟
A6: 2月份 | B6: 绞绳废铁丝 | C6: ='2018年 '!C71 -> 65.73 | F6: ='2018年 '!F71 -> 65.73 | G6: 陶庄金属市场 | H6: 诸美娟
A7: 3月份 | B7: 绞绳废铁丝 | C7: ='2018年 '!C104 -> 72.46 | F7: ='2018年 '!F104 -> 72.46 | G7: 陶庄金属市场 | H7: 诸美娟
A8: 4月份 | B8: 绞绳废铁丝 | C8: ='2018年 '!C137 -> 68.78 | F8: ='2018年 '!F137 -> 68.78 | G8: 陶庄金属市场 | H8: 诸美娟
A9: 5月份 | B9: 绞绳废铁丝 | C9: ='2018年 '!C170 -> 87.49 | F9: ='2018年 '!F170 -> 87.49 | G9: 陶庄金属市场 | H9: 诸美娟
A10: 6月份 | B10: 绞绳废铁丝 | C10: ='2018年 '!C203 -> 73.04 | F10: =C10 -> 73.04 | G10: 陶庄金属市场 | H10: 诸美娟
A11: 7月份 | B11: 绞绳废铁丝 | C11: ='2018年 '!C236 -> 70.68 | F11: ='2018年 '!F236 -> 70.68 | G11: 陶庄金属市场 | H11: 诸美娟
A12: 8月份 | B12: 绞绳废铁丝 | C12: ='2018年 '!C269 -> 66 | F12: =C12 -> 66 | G12: 陶庄金属市场 | H12: 诸美娟
A13: 9月份 | B13: 绞绳废铁丝 | C13: ='2018年 '!C302 -> 61.93 | F13: =C13 -> 61.93 | G13: 陶庄金属市场 | H13: 诸美娟
A14: 10月份 | B14: 绞绳废铁丝 | C14: ='2018年 '!C334 -> 66.38 | F14: =C14 -> 66.38 | G14: 陶庄金属市场 | H14: 诸美娟
A15: 11月份 | B15: 绞绳废铁丝 | C15: ='2018年 '!C367 -> 69.72 | F15: ='2018年 '!F367 -> 69.72 | G15: 陶庄金属市场 | H15: 诸美娟
A16: 12月份 | B16: 绞绳废铁丝 | C16: ='2018年 '!C399 -> 68.62 | F16: ='2018年 '!F399 -> 68.62 | G16: 陶庄金属市场 | H16: 诸美娟
A17: 合计 | C17: =SUM(C5:C16) -> 826.65 | F17: =SUM(F5:F16) -> 826.65

Sheet 2019年 
A1: 生产过程产生的固体废物利用及处置情况（按日填写）股份
A2: 日期 | B2: 固 体 废 物 名 称 | C2: 数量（吨） | D2: 利 用 情 况 | F2: 处 置 情 况 | H2: 记录人签字
D3: 利用数量 | E3: 去 向 | F3: 处置数量 | G3: 去 向
D4: （吨） | F4: （吨）
A5: 43466
A6: 43467
A7: 43468
A8: 43469
A9: 43470 | B9: 绞绳废铁丝 | C9: 12.2 | F9: =C9 -> 12.2 | G9: 陶庄金属市场 | H9: 诸美娟
A10: 43471
A11: 43472
A12: 43473
A13: 43474
A14: 43475
A15: 43476
A16: 43477 | B16: 绞绳废铁丝 | C16: 12.28 | F16: =C16 -> 12.28 | G16: 陶庄金属市场 | H16: 诸美娟
A17: 43478
A18: 43479
A19: 43480
A20: 43481
A21: 43482
A22: 43483
A23: 43484 | B23: 绞绳废铁丝 | C23: 13.58 | F23: =C23 -> 13.58 | G23: 陶庄金属市场 | H23: 诸美娟
A24: 43485
A25: 43486
A26: 43487
A27: 43488
A28: 43489
A29: 43490 | B29: 绞绳废铁丝 | C29: 12.68 | F29: =C29 -> 12.68 | G29: 陶庄金属市场 | H29: 诸美娟
A30: 43491
A31: 43492
A32: 43493
A33: 43494
A34: 43495 | B34: 绞绳废铁丝 | C34: 12.76 | F34: =C34 -> 12.76 | G34: 陶庄金属市场 | H34: 诸美娟
A35: 43496
A36: 合计 | C36: =SUM(C5:C35) -> 63.5 | F36: =SUM(F5:F35) -> 63.5
A37: 备注：2017年7月24日起开始统计
A40: 43497
A41: 43498
A42: 43499 | B42: 绞绳废铁丝 | C42: 14.34 | F42: =C42 -> 14.34 | G42: 陶庄金属市场 | H42: 诸美娟
...

Sheet 2019年月度统计 
A1: 生产过程产生的固体废物利用及处置情况（按日填写）股份 ( 2019)
A2: 日期 | B2: 固 体 废 物 名 称 | C2: 数量（吨） | D2: 利 用 情 况 | F2: 处 置 情 况 | H2: 记录人签字
D3: 利用数量 | E3: 去 向 | F3: 处置数量 | G3: 去 向
D4: （吨） | F4: （吨）
A5: 1月份 | B5: 绞绳废铁丝 | C5: ='2019年 '!C36 -> 63.5 | F5: =C5 -> 63.5 | G5: 陶庄金属市场 | H5: 诸美娟
A6: 2月份 | B6: 绞绳废铁丝 | C6: ='2019年 '!C71 -> 65.06 | F6: =C6 -> 65.06 | G6: 陶庄金属市场 | H6: 诸美娟
A7: 3月份 | B7: 绞绳废铁丝 | C7: ='2019年 '!C104 -> 74.18 | F7: =C7 -> 74.18 | G7: 陶庄金属市场 | H7: 诸美娟
A8: 4月份 | B8: 绞绳废铁丝 | C8: ='2019年 '!C137 -> 52.06 | F8: =C8 -> 52.06 | G8: 陶庄金属市场 | H8: 诸美娟
A9: 5月份 | B9: 绞绳废铁丝 | C9: ='2019年 '!C170 -> 51.1 | F9: =C9 -> 51.1 | G9: 陶庄金属市场 | H9: 诸美娟
A10: 6月份 | B10: 绞绳废铁丝 | C10: ='2019年 '!C203 -> 48.8 | F10: =C10 -> 48.8 | G10: 陶庄金属市场 | H10: 诸美娟
A11: 7月份 | B11: 绞绳废铁丝 | C11: ='2019年 '!C236 -> 48.88 | F11: =C11 -> 48.88 | G11: 陶庄金属市场 | H11: 诸美娟
A12: 8月份 | B12: 绞绳废铁丝 | C12: ='2019年 '!C269 -> 46.75 | F12: =C12 -> 46.75 | G12: 陶庄金属市场 | H12: 诸美娟
A13: 9月份 | B13: 绞绳废铁丝 | C13: ='2019年 '!C302 -> 46.08 | F13: =C13 -> 46.08 | G13: 陶庄金属市场 | H13: 诸美娟
A14: 10月份 | B14: 绞绳废铁丝 | C14: ='2019年 '!C334 -> 50.06 | F14: =C14 -> 50.06 | G14: 陶庄金属市场 | H14: 诸美娟
A15: 11月份 | B15: 绞绳废铁丝 | C15: ='2019年 '!C367 -> 51.38 | F15: =C15 -> 51.38 | G15: 陶庄金属市场 | H15: 诸美娟
A16: 12月份 | B16: 绞绳废铁丝 | C16: ='2019年 '!C399 -> 35.46 | F16: =C16 -> 35.46 | G16: 陶庄金属市场 | H16: 诸美娟
A17: 合计 | C17: =SUM(C5:C16) -> 633.31 | F17: =SUM(F5:F16) -> 633.31

Sheet 2020年 
A1: 生产过程产生的固体废物利用及处置情况（按日填写）股份
A2: 日期 | B2: 固 体 废 物 名 称 | C2: 数量（吨） | D2: 利 用 情 况 | F2: 处 置 情 况 | H2: 记录人签字
D3: 利用数量 | E3: 去 向 | F3: 处置数量 | G3: 去 向
D4: （吨） | F4: （吨）
A5: 43831
A6: 43832
A7: 43833
A8: 43834
A9: 43835 | B9: 绞绳废铁丝 | C9: 11.92 | F9: =C9 -> 11.92 | G9: 陶庄金属市场 | H9: 诸美娟
A10: 43836
A11: 43837
A12: 43838
A13: 43839
A14: 43840
A15: 43841
A16: 43842
A17: 43843 | B17: 绞绳废铁丝 | C17: 10.8 | F17: =C17 -> 10.8 | G17: 陶庄金属市场 | H17: 诸美娟
A18: 43844
A19: 43845
A20: 43846
A21: 43847
A22: 43848
A23: 43849
A24: 43850 | B24: 绞绳废铁丝 | C24: 11.2 | F24: =C24 -> 11.2 | G24: 陶庄金属市场 | H24: 诸美娟
A25: 43851
A26: 43852
A27: 43853
A28: 43854
A29: 43855
A30: 43856
A31: 43857
A32: 43858
A33: 43859
A34: 43860
A35: 43861
A36: 合计 | C36: =SUM(C5:C35) -> 33.92 | F36: =SUM(F5:F35) -> 33.92
A37: 备注：2017年7月24日起开始统计
A40: 43862
A41: 43863
A42: 43864
...

Sheet 2020年月度统计 
A1: 生产过程产生的固体废物利用及处置情况（按日填写）股份 ( 2020)
A2: 日期 | B2: 固 体 废 物 名 称 | C2: 数量（吨） | D2: 利 用 情 况 | F2: 处 置 情 况 | H2: 记录人签字
D3: 利用数量 | E3: 去 向 | F3: 处置数量 | G3: 去 向
D4: （吨） | F4: （吨）
A5: 1月份 | B5: 绞绳废铁丝 | C5: ='2020年 '!C36 -> 33.92 | F5: ='2020年 '!F36 -> 33.92 | G5: 陶庄金属市场 | H5: 诸美娟
A6: 2月份 | B6: 绞绳废铁丝 | C6: ='2020年 '!C71 -> 10.9 | F6: ='2020年 '!F71 -> 10.9 | G6: 陶庄金属市场 | H6: 诸美娟
A7: 3月份 | B7: 绞绳废铁丝 | C7: ='2020年 '!C104 -> 37.79 | F7: ='2020年 '!F104 -> 37.79 | G7: 陶庄金属市场 | H7: 诸美娟
A8: 4月份 | B8: 绞绳废铁丝 | C8: ='2020年 '!C137 -> 36.62 | F8: ='2020年 '!F137 -> 36.62 | G8: 陶庄金属市场 | H8: 诸美娟
A9: 5月份 | B9: 绞绳废铁丝 | C9: ='2020年 '!C170 -> 34.47 | F9: =C9 -> 34.47 | G9: 陶庄金属市场 | H9: 诸美娟
A10: 6月份 | B10: 绞绳废铁丝 | C10: ='2020年 '!C203 -> 37.04 | F10: =C10 -> 37.04 | G10: 陶庄金属市场 | H10: 诸美娟
A11: 7月份 | B11: 绞绳废铁丝 | C11: ='2020年 '!C236 -> 37.64 | F11: =C11 -> 37.64 | G11: 陶庄金属市场 | H11: 诸美娟
A12: 8月份 | B12: 绞绳废铁丝 | C12: ='2020年 '!C269 -> 37.92 | F12: ='2020年 '!F269 -> 37.92 | G12: 陶庄金属市场 | H12: 诸美娟
A13: 9月份 | B13: 绞绳废铁丝 | C13: ='2020年 '!C302 -> 34.98 | F13: ='2020年 '!F302 -> 34.98 | G13: 陶庄金属市场 | H13: 诸美娟
A14: 10月份 | B14: 绞绳废铁丝 | C14: ='2020年 '!C334 -> 38 | F14: ='2020年 '!F334 -> 38 | G14: 陶庄金属市场 | H14: 诸美娟
A15: 11月份 | B15: 绞绳废铁丝 | C15: ='2020年 '!C367 -> 23.52 | F15: =C15 -> 23.52 | G15: 陶庄金属市场 | H15: 诸美娟
A16: 12月份 | B16: 绞绳废铁丝 | C16: ='2020年 '!C399 -> 37.92 | F16: ='2020年 '!F399 -> 37.92 | G16: 陶庄金属市场 | H16: 诸美娟
A17: 合计 | C17: =SUM(C5:C16) -> 400.72 | F17: =SUM(F5:F16) -> 400.72

Sheet Sheet3
A1: 生产过程产生的固体废物利用及处置情况（按日填写）股份
A2: 日期 | B2: 固 体 废 物 名 称 | C2: 数量（吨） | D2: 利 用 情 况 | F2: 处 置 情 况 | H2: 记录人签字 | I2: 车数
D3: 利用数量 | E3: 去 向 | F3: 处置数量 | G3: 去 向
D4: （吨） | F4: （吨）
A5: 43132 | B5: 废塑料 | G5: 电厂焚烧
A6: 43133 | B6: 废塑料 | G6: 电厂焚烧
A7: 43134 | B7: 废塑料 | G7: 电厂焚烧
A8: 43135 | B8: 废塑料 | G8: 电厂焚烧
A9: 43136 | B9: 废塑料 | G9: 电厂焚烧
A10: 43137 | B10: 废塑料 | G10: 电厂焚烧
A11: 43138 | B11: 废塑料 | G11: 电厂焚烧
A12: 43139 | B12: 废塑料 | G12: 电厂焚烧
A13: 43140 | B13: 废塑料 | G13: 电厂焚烧
A14: 43141 | B14: 废塑料 | G14: 电厂焚烧
A15: 43142 | B15: 废塑料 | G15: 电厂焚烧
A16: 43143 | B16: 废塑料 | G16: 电厂焚烧
... A35: 43162 | B35: 废塑料 | G35: 电厂焚烧
A36: 合计
A37: 备注：2017年7月24日起开始整改分类填报
